BEGIN:VCALENDAR
VERSION:2.0
PRODID:-//ChamberMaster//Event Calendar 2.0//EN
METHOD:PUBLISH
X-PUBLISHED-TTL:P3D
REFRESH-INTERVAL:P3D
CALSCALE:GREGORIAN
BEGIN:VEVENT
DTSTART:20170316T230000Z
DTEND:20170317T010000Z
X-MICROSOFT-CDO-ALLDAYEVENT:FALSE
SUMMARY:March Conceal Weapon Class
DESCRIPTION:The Concealed Weapon Permit class will be conducted on Thursday evening March 16\, 2017 beginning at 7 PM at the Chamber.  The class will last approximately two hours.  Range qualification will take place on Saturday March 18\, 2017.  You will be instructed where to meet on Saturday during the Thursday evening class.  You may use your own weapon or you may use the weapon we provide you during qualification.
X-ALT-DESC;FMTTYPE=text/html:<div style="text-align: justify\;">The Concealed Weapon Permit class will be conducted on Thursday evening March 16\, 2017 beginning at 7 PM at the Chamber. &nbsp\;The class will last approximately two hours. &nbsp\;Range qualification will take place on Saturday March 18\, 2017. &nbsp\;You will be instructed where to meet on Saturday during the Thursday evening class. &nbsp\;You may use your own weapon or you may use the weapon we provide you during qualification. &nbsp\;</div>\n
LOCATION:Chamber of Commerce of Okeechobee County 55 S Parrott Ave.
UID:e.1131.7303
SEQUENCE:3
DTSTAMP:20260426T003846Z
URL:http://okeechobeechamber.chambermaster.com/events/details/march-conceal-weapon-class-7303
END:VEVENT

END:VCALENDAR
